BEGIN:VCALENDAR
VERSION:2.0
PRODID:-//Dining at Hyatt Centric San Salvador - ECPv6.15.20//NONSGML v1.0//EN
CALSCALE:GREGORIAN
METHOD:PUBLISH
X-WR-CALNAME:Dining at Hyatt Centric San Salvador
X-ORIGINAL-URL:https://hyattcentricss.com
X-WR-CALDESC:Events for Dining at Hyatt Centric San Salvador
REFRESH-INTERVAL;VALUE=DURATION:PT1H
X-Robots-Tag:noindex
X-PUBLISHED-TTL:PT1H
BEGIN:VTIMEZONE
TZID:America/Chicago
BEGIN:DAYLIGHT
TZOFFSETFROM:-0600
TZOFFSETTO:-0500
TZNAME:CDT
DTSTART:20250309T080000
END:DAYLIGHT
BEGIN:STANDARD
TZOFFSETFROM:-0500
TZOFFSETTO:-0600
TZNAME:CST
DTSTART:20251102T070000
END:STANDARD
BEGIN:DAYLIGHT
TZOFFSETFROM:-0600
TZOFFSETTO:-0500
TZNAME:CDT
DTSTART:20260308T080000
END:DAYLIGHT
BEGIN:STANDARD
TZOFFSETFROM:-0500
TZOFFSETTO:-0600
TZNAME:CST
DTSTART:20261101T070000
END:STANDARD
BEGIN:DAYLIGHT
TZOFFSETFROM:-0600
TZOFFSETTO:-0500
TZNAME:CDT
DTSTART:20270314T080000
END:DAYLIGHT
BEGIN:STANDARD
TZOFFSETFROM:-0500
TZOFFSETTO:-0600
TZNAME:CST
DTSTART:20271107T070000
END:STANDARD
END:VTIMEZONE
BEGIN:VEVENT
DTSTART;TZID=America/Chicago:20260206T190000
DTEND;TZID=America/Chicago:20260206T220000
DTSTAMP:20260422T081644
CREATED:20260131T224744Z
LAST-MODIFIED:20260131T224744Z
UID:5500-1770404400-1770415200@hyattcentricss.com
SUMMARY:Stand Up Comedy: Risas por docena
DESCRIPTION:Prepárate para una noche de risas por docena.Acompáñanos en nuestro stand up comedy especial de Comedia ES por su 10° aniversario.Comediantes e invitados especiales.Pre venta: US$12.00 por personaDía del evento: US$15.00 por persona.
URL:https://hyattcentricss.com/event/stand-up-comedy-risas-por-docena/
LOCATION:Las Tunas Restaurant\, Hyatt Centric San Salvador\, 2o Nivel\, Antiguo Cuscatlán\, La Libertad\, El Salvador
CATEGORIES:Stand Up Comedy
END:VEVENT
END:VCALENDAR